BEGIN:VCALENDAR
VERSION:2.0
PRODID:spatie/icalendar-generator
DESCRIPTION:Events from CEPER María de Luna
X-WR-CALDESC:Events from CEPER María de Luna
REFRESH-INTERVAL;VALUE=DURATION:PT1440M
X-PUBLISHED-TTL:PT1440M
BEGIN:VTIMEZONE
TZID:Europe/Madrid
BEGIN:STANDARD
DTSTART:20251026T030000Z
TZOFFSETFROM:+0200
TZOFFSETTO:+0100
END:STANDARD
BEGIN:DAYLIGHT
DTSTART:20260329T020000Z
TZOFFSETFROM:+0100
TZOFFSETTO:+0200
END:DAYLIGHT
BEGIN:STANDARD
DTSTART:20261025T030000Z
TZOFFSETFROM:+0200
TZOFFSETTO:+0100
END:STANDARD
END:VTIMEZONE
BEGIN:VTIMEZONE
TZID:UTC
BEGIN:STANDARD
DTSTART:20250727T181651Z
TZOFFSETFROM:+0000
TZOFFSETTO:+0000
END:STANDARD
END:VTIMEZONE
BEGIN:VEVENT
UID:7-2
DTSTAMP:20260423T181651Z
SUMMARY:Día del libro
LOCATION:
ORGANIZER;CN=Luis Abelardo Santos Lema:MAILTO:luisdelema@hotmail.com
RRULE:FREQ=YEARLY;BYMONTH=04;BYDAY=23;COUNT=5
DTSTART;TZID=Europe/Madrid;VALUE=DATE:20260423
DTEND;TZID=Europe/Madrid;VALUE=DATE:20260424
X-ALT-DESC;FMTTYPE=TEXT/HTML:Como cada año\, el 23 de abril se celebra el 
 Día Mundial del Libro. Fecha simbólica elegida por la UNESCO por su “c
 oincidencia” con la muerte de dos grandes escritores como Shakespeare y 
 Cervantes.
CATEGORIES:Celebración
URL;VALUE=URI:https://blogsaverroes.juntadeandalucia.es/cepermariadeluna/ta
 g/dia-del-libro/
END:VEVENT
END:VCALENDAR